BEGIN:VCALENDAR
VERSION:2.0
PRODID:-//RML BW - ECPv6.15.20//NONSGML v1.0//EN
CALSCALE:GREGORIAN
METHOD:PUBLISH
X-ORIGINAL-URL:https://rlm-bw.be
X-WR-CALDESC:Évènements pour RML BW
REFRESH-INTERVAL;VALUE=DURATION:PT1H
X-Robots-Tag:noindex
X-PUBLISHED-TTL:PT1H
BEGIN:VTIMEZONE
TZID:Europe/Brussels
BEGIN:DAYLIGHT
TZOFFSETFROM:+0100
TZOFFSETTO:+0200
TZNAME:CEST
DTSTART:20220327T010000
END:DAYLIGHT
BEGIN:STANDARD
TZOFFSETFROM:+0200
TZOFFSETTO:+0100
TZNAME:CET
DTSTART:20221030T010000
END:STANDARD
BEGIN:DAYLIGHT
TZOFFSETFROM:+0100
TZOFFSETTO:+0200
TZNAME:CEST
DTSTART:20230326T010000
END:DAYLIGHT
BEGIN:STANDARD
TZOFFSETFROM:+0200
TZOFFSETTO:+0100
TZNAME:CET
DTSTART:20231029T010000
END:STANDARD
BEGIN:DAYLIGHT
TZOFFSETFROM:+0100
TZOFFSETTO:+0200
TZNAME:CEST
DTSTART:20240331T010000
END:DAYLIGHT
BEGIN:STANDARD
TZOFFSETFROM:+0200
TZOFFSETTO:+0100
TZNAME:CET
DTSTART:20241027T010000
END:STANDARD
END:VTIMEZONE
BEGIN:VEVENT
DTSTART;TZID=Europe/Brussels:20231109T090000
DTEND;TZID=Europe/Brussels:20231115T220000
DTSTAMP:20260420T100434
CREATED:20231020T133621Z
LAST-MODIFIED:20231020T133903Z
UID:7461-1699520400-1700085600@rlm-bw.be
SUMMARY:Journée mondiale du diabète
DESCRIPTION:Un tiers des personnes diabétiques ne savent pas qu’elles sont concernées ou ne sont pas suivies pour cette maladie ! \nA l’occasion de la journée mondiale du diabète\, le RLM Brabant wallon organise des évènements avec des partenaires soucieux de la santé d’autrui. \n*** Le 9 novembre 2023 de 9 à 12h ***\, retrouvez-nous à la Maison des Associations de Braine-l’Alleud pour une matinée d’ateliers de sensibilisation au diabète de type 2 pendant laquelle une équipe d’infirmières éducatrices en diabétologie\, diététicienne et kinésithérapeute vous proposeront des séances d’informations\, d’échanges et d’exercices physiques adaptés. \nVous aurez également la possibilité de vous faire tester gratuitement si vous le souhaitez. \nCet évènement est gratuit. \nLes places sont limitées. Ne tardez pas à vous inscrire à l’adresse « vieassociative@braine-lalleud.be » ou au 02/854.05.95 \n*** Le 14 novembre 2023 de 10 à 18h***\, le RLM Brabant wallon installera un stand de sensibilisation au diabète de type 2 à l’Esplanade de Louvain-la-Neuve \nDes tests seront gratuitement effectués par deux infirmières éducatrices et ce sera l’occasion de se poser des questions sur sa santé et d’échanger sur l’alimentation et le diabète. \n*** Le 15 novembre 2023 de 20 à 22h***\, Le RLM Brabant wallon et la commune d’Ottignies vous accueilleront à la Salle de l’Hôtel de Ville pour une conférence sur le thème du diabète de type 2 qui sera présentée par le Dr Camille Pairon\, endocrinologue de la Clinique Saint-Pierre d’Ottignies. \nCet évènement est gratuit. \nNous vous y attendons nombreux mais attention les places sont limitées donc ne tardez pas à vous inscrire sur « olln.be » ou au 010/43.61.72.
URL:https://rlm-bw.be/agenda/journee-mondiale-du-diabete/
END:VEVENT
END:VCALENDAR